BEGIN:VCALENDAR
VERSION:2.0
PRODID:-//Vets Helping Vets - ECPv6.15.20//NONSGML v1.0//EN
CALSCALE:GREGORIAN
METHOD:PUBLISH
X-WR-CALNAME:Vets Helping Vets
X-ORIGINAL-URL:https://vhva.org
X-WR-CALDESC:Events for Vets Helping Vets
REFRESH-INTERVAL;VALUE=DURATION:PT1H
X-Robots-Tag:noindex
X-PUBLISHED-TTL:PT1H
BEGIN:VTIMEZONE
TZID:America/New_York
BEGIN:DAYLIGHT
TZOFFSETFROM:-0500
TZOFFSETTO:-0400
TZNAME:EDT
DTSTART:20230312T070000
END:DAYLIGHT
BEGIN:STANDARD
TZOFFSETFROM:-0400
TZOFFSETTO:-0500
TZNAME:EST
DTSTART:20231105T060000
END:STANDARD
BEGIN:DAYLIGHT
TZOFFSETFROM:-0500
TZOFFSETTO:-0400
TZNAME:EDT
DTSTART:20240310T070000
END:DAYLIGHT
BEGIN:STANDARD
TZOFFSETFROM:-0400
TZOFFSETTO:-0500
TZNAME:EST
DTSTART:20241103T060000
END:STANDARD
BEGIN:DAYLIGHT
TZOFFSETFROM:-0500
TZOFFSETTO:-0400
TZNAME:EDT
DTSTART:20250309T070000
END:DAYLIGHT
BEGIN:STANDARD
TZOFFSETFROM:-0400
TZOFFSETTO:-0500
TZNAME:EST
DTSTART:20251102T060000
END:STANDARD
BEGIN:DAYLIGHT
TZOFFSETFROM:-0500
TZOFFSETTO:-0400
TZNAME:EDT
DTSTART:20260308T070000
END:DAYLIGHT
BEGIN:STANDARD
TZOFFSETFROM:-0400
TZOFFSETTO:-0500
TZNAME:EST
DTSTART:20261101T060000
END:STANDARD
END:VTIMEZONE
BEGIN:VEVENT
DTSTART;TZID=America/New_York:20250719T180000
DTEND;TZID=America/New_York:20250719T220000
DTSTAMP:20260423T131147
CREATED:20250715T015126Z
LAST-MODIFIED:20250715T015126Z
UID:5397-1752948000-1752962400@vhva.org
SUMMARY:Oh\, Whatanight!
DESCRIPTION:
URL:https://vhva.org/calendar/oh-whatanight/
LOCATION:Wataburger\, 2900 Main Street\, Anderson\, SC\, United States
ATTACH;FMTTYPE=image/png:https://vhva.org/wp-content/uploads/2025/07/Whataburger-Flyer-scaled.png
END:VEVENT
BEGIN:VEVENT
DTSTART;TZID=America/New_York:20250604T080000
DTEND;TZID=America/New_York:20250604T170000
DTSTAMP:20260423T131147
CREATED:20250604T160042Z
LAST-MODIFIED:20250604T160042Z
UID:5282-1749024000-1749056400@vhva.org
SUMMARY:VHVA Meetings
DESCRIPTION:
URL:https://vhva.org/calendar/vhva-meetings/
LOCATION:SC
ATTACH;FMTTYPE=image/jpeg:https://vhva.org/wp-content/uploads/2025/06/493682318_1014902350759349_3242364788255424012_n.jpg
END:VEVENT
BEGIN:VEVENT
DTSTART;TZID=America/New_York:20250222T100000
DTEND;TZID=America/New_York:20250222T140000
DTSTAMP:20260423T131147
CREATED:20250204T035232Z
LAST-MODIFIED:20250204T035232Z
UID:5103-1740218400-1740232800@vhva.org
SUMMARY:Central Presbyterian Church Resource Fair
DESCRIPTION:
URL:https://vhva.org/calendar/central-presbyterian-church-resource-fair/
LOCATION:SC
ATTACH;FMTTYPE=image/png:https://vhva.org/wp-content/uploads/2025/02/Central-Fair-Flyer-1.png
END:VEVENT
BEGIN:VEVENT
DTSTART;VALUE=DATE:20241104
DTEND;VALUE=DATE:20241105
DTSTAMP:20260423T131147
CREATED:20241102T233544Z
LAST-MODIFIED:20241102T233840Z
UID:4849-1730678400-1730764799@vhva.org
SUMMARY:Texas Roadhouse Fundraiser
DESCRIPTION:
URL:https://vhva.org/calendar/texas-roadhouse-fundraiser/
LOCATION:Texas Roadhouse\, 4119 Clemson Blvd\, Anderson\, SC\, United States
ATTACH;FMTTYPE=image/jpeg:https://vhva.org/wp-content/uploads/2024/11/Texas-Roadhouse-Event-scaled.jpg
END:VEVENT
BEGIN:VEVENT
DTSTART;VALUE=DATE:20240913
DTEND;VALUE=DATE:20240914
DTSTAMP:20260423T131147
CREATED:20240712T152516Z
LAST-MODIFIED:20240712T152516Z
UID:4673-1726185600-1726271999@vhva.org
SUMMARY:VHVA Golf Tournament
DESCRIPTION:
URL:https://vhva.org/calendar/vhva-golf-tournament/
LOCATION:The Club at Brookstone\, 100 River Club Dr\, Anderson\, SC\, 29621
END:VEVENT
BEGIN:VEVENT
DTSTART;TZID=America/New_York:20240622T100000
DTEND;TZID=America/New_York:20240622T160000
DTSTAMP:20260423T131147
CREATED:20240604T022247Z
LAST-MODIFIED:20240604T030450Z
UID:4307-1719050400-1719072000@vhva.org
SUMMARY:The Lost City Regatta
DESCRIPTION:VHVA invites ye scurvy dogs to partake in the Lost City Regatta! Come out to the Shores of Asbury to watch the pirates race\, or to test your own cardboard pirate skills.
URL:https://vhva.org/calendar/the-lost-city-regatta/
LOCATION:The Shores of Asbury\, 1600 Asbury Park Rd\, Anderson\, SC\, 29625\, United States
ATTACH;FMTTYPE=image/png:https://vhva.org/wp-content/uploads/2024/06/LostCityPostermed.png
END:VEVENT
BEGIN:VEVENT
DTSTART;TZID=America/New_York:20240609T190000
DTEND;TZID=America/New_York:20240609T220000
DTSTAMP:20260423T131147
CREATED:20240604T231739Z
LAST-MODIFIED:20240604T231820Z
UID:4563-1717959600-1717970400@vhva.org
SUMMARY:Confederate Railroad
DESCRIPTION:The concert for Confederate Railroad will be held at the Pickens County performing arts center
URL:https://vhva.org/calendar/confederate-railroad/
LOCATION:Pickens Art Center\, 314 W Main St\, Liberty\, SC\, 29657\, United States
ATTACH;FMTTYPE=image/jpeg:https://vhva.org/wp-content/uploads/2024/06/Confederate-Railroad.jpg
END:VEVENT
END:VCALENDAR